BEGIN:VCALENDAR
VERSION:2.0
PRODID:-//Optometry Today - ECPv6.2.9//NONSGML v1.0//EN
CALSCALE:GREGORIAN
METHOD:PUBLISH
X-WR-CALNAME:Optometry Today
X-ORIGINAL-URL:https://optometry-today.com
X-WR-CALDESC:Events for Optometry Today
REFRESH-INTERVAL;VALUE=DURATION:PT1H
X-Robots-Tag:noindex
X-PUBLISHED-TTL:PT1H
BEGIN:VTIMEZONE
TZID:Europe/Zagreb
BEGIN:DAYLIGHT
TZOFFSETFROM:+0100
TZOFFSETTO:+0200
TZNAME:CEST
DTSTART:20180325T010000
END:DAYLIGHT
BEGIN:STANDARD
TZOFFSETFROM:+0200
TZOFFSETTO:+0100
TZNAME:CET
DTSTART:20181028T010000
END:STANDARD
END:VTIMEZONE
BEGIN:VEVENT
DTSTART;TZID=Europe/Zagreb:20180422T080000
DTEND;TZID=Europe/Zagreb:20180426T170000
DTSTAMP:20260420T151037
CREATED:20160323T103043Z
LAST-MODIFIED:20181014T112410Z
UID:2680-1524384000-1524762000@optometry-today.com
SUMMARY:SPIE PHOTONICS EUROPE
DESCRIPTION:SPIE  (International Society for Optical Engineering)
URL:https://optometry-today.com/event/spie-photonics-europe/
LOCATION:Strasbourg\, Palais de la Musique et des Congrès\, France
CATEGORIES:EXHIBITION
ATTACH;FMTTYPE=image/jpeg:https://optometry-today.com/wp-content/uploads/2016/03/spie.jpg
ORGANIZER;CN="SPIE (International Society for Optical Engineering)":MAILTO:alr@spie.org
END:VEVENT
BEGIN:VEVENT
DTSTART;TZID=Europe/Zagreb:20180315T080000
DTEND;TZID=Europe/Zagreb:20180317T170000
DTSTAMP:20260420T151037
CREATED:20160323T101218Z
LAST-MODIFIED:20181014T111522Z
UID:2668-1521100800-1521306000@optometry-today.com
SUMMARY:SALMED EXPO
DESCRIPTION:International Trade Fair of Medical Equipment and Instruments in Poznan\, Poland
URL:https://optometry-today.com/event/salmed-expo-2016/
LOCATION:Poznan\, Poznan Congress Center\, ul. Glogowska 14 \, Poznan\, 60-734\, Poland
CATEGORIES:EXHIBITION
ATTACH;FMTTYPE=image/jpeg:https://optometry-today.com/wp-content/uploads/2016/03/salmed-logo.jpg
ORGANIZER;CN="Poznan International Fair":MAILTO:info@mtp.pl
END:VEVENT
END:VCALENDAR